BEGIN:VCALENDAR
PRODID:NingEventWidget-v1
VERSION:2.0
METHOD:PUBLISH
BEGIN:VEVENT
UID:4320450:Event:41773
DTSTAMP:20260425T113120Z
SUMMARY:Livid Presents DJ Damage Spinning at Made in America After Par
 ty
DESCRIPTION:Livid Mobile, Inc. presents the Livid Made in America afte
 r party at the Goldilocks & James Oliver Galleries. This 2 floor loft 
 after party features DJ Damage and DJ Caution spinning, a special gues
 t, and drinks. Show the app download on your phone when you arrive for
  the opportunity to win prizes and drink specials. Show your ID to ent
 er.\nLivid is a social media app that links fans to their favorite cel
 ebrities, brands, places & things that they love. Visit lividmobile.co
 m for more information.\n\nFor more information visit http://phillytod
 o.com/events/livid-presents-dj-damage-spinning-at-made-in-america-afte
 r-party
DTSTART:20150906T030000Z
DTEND:20150906T060000Z
CATEGORIES:dj, club, free
LOCATION:Goldilocks Gallery
WEBSITE:http://lividmobile.com
URL:http://lividmobile.com
CONTACT:
ORGANIZER;CN="Skai Blue Media":http://phillytodo.com/profile/SkaiBlueM
 edia
ATTACH;FMTTYPE="image/jpeg":http://storage.ning.com/topology/rest/1.0/
 file/get/3054990739?profile=original
ATTENDEE;ROLE=REQ-PARTICIPANT;PARTSTAT=ACCEPTED;RSVP=TRUE;CN="Skai Blu
 e Media":http://phillytodo.com/profile/SkaiBlueMedia
END:VEVENT
END:VCALENDAR
