BEGIN:VCALENDAR
PRODID:NingEventWidget-v1
VERSION:2.0
METHOD:PUBLISH
BEGIN:VEVENT
UID:4320450:Event:54799
DTSTAMP:20260425T115056Z
SUMMARY:Live Music Nights
DESCRIPTION:Join us Thursday evenings May – August as the Town Cente
 r transforms into a FREE concert venue showcasing local live artists o
 n the green space. Bring a blanket or a lawn chair and enjoy live fami
 ly entertainment!\n \nMay 10th - Swift Technique\nJune 14th - Rad & K
 ell\nJuly 12th – Aaron Parnell Brown\nAugust 9th - Barefoot Bobby an
 d the Breakers\n \nSelect Thursdays @ 6pm – 8pm\nAdmission is free.
 \n \nFor more information, please visit: www.kingofprussia-towncenter
 .com\n155 Village Drive #100, King of Prussia, PA 19406\n\nFor more in
 formation visit http://phillytodo.com/events/live-music-nights-1
DTSTART:20180614T220000Z
DTEND:20180615T000000Z
CATEGORIES:live, music
LOCATION:King of Prussia Town Center
WEBSITE:https://www.kingofprussia-towncenter.com
URL:https://www.kingofprussia-towncenter.com
CONTACT:
ORGANIZER;CN=CashmanAssoc:http://phillytodo.com/profile/CashmanAssoc
ATTACH;FMTTYPE="image/jpeg":http://storage.ning.com/topology/rest/1.0/
 file/get/3055011122?profile=original
ATTENDEE;ROLE=REQ-PARTICIPANT;PARTSTAT=ACCEPTED;RSVP=TRUE;CN=CashmanAs
 soc:http://phillytodo.com/profile/CashmanAssoc
END:VEVENT
END:VCALENDAR
