BEGIN:VCALENDAR
PRODID:NingEventWidget-v1
VERSION:2.0
METHOD:PUBLISH
BEGIN:VEVENT
UID:4320450:Event:170661
DTSTAMP:20260425T113100Z
SUMMARY:Live Entertainment lineup at Valley Forge Casino Resort
DESCRIPTION:Valley Forge Casino Resort is the perfect destination for 
 a fun summer getaway! Each Saturday this summer will feature a special
  live music performance and food truck popup at the resort’s beach-i
 nspired outdoor pool,Valley Beach! Check out the 20,000-sq.-ft. poolsi
 de club with an entertainment stage, open-air bar, tiki bar, private c
 abanas, and a crystal blue pool and jam out to country, rock, dance be
 ats and more.\n\nFor more information visit http://phillytodo.com/even
 ts/live-entertainment-lineup-at-valley-forge-casino-resort
DTSTART:20220625T230000Z
DTEND:20220626T034500Z
CATEGORIES:live, music
LOCATION:Valley Beach at Valley Forge Casino Resort
WEBSITE:https://www.vfcasino.com/experience/valley-beach
URL:https://www.vfcasino.com/experience/valley-beach
CONTACT:(610) 354-8118
ORGANIZER:Valley Forge Casino Resort
ATTACH;FMTTYPE="image/jpeg":https://storage.ning.com/topology/rest/1.0
 /file/get/10586220872?profile=original
ATTENDEE;ROLE=REQ-PARTICIPANT;PARTSTAT=ACCEPTED;RSVP=TRUE;CN=CashmanAs
 soc:http://phillytodo.com/profile/CashmanAssoc
END:VEVENT
END:VCALENDAR
