BEGIN:VCALENDAR
PRODID:NingEventWidget-v1
VERSION:2.0
METHOD:PUBLISH
BEGIN:VEVENT
UID:4320450:Event:36805
DTSTAMP:20260425T175716Z
SUMMARY:Live and Local Music at Spruce Street Harbor Park
DESCRIPTION:Live and local music at the new Spruce Street Harbor Park.
   From June 27th through August 31st, visit the brand new Spruce Stre
 et Harbor Park, a summer pop-up park complete with a boardwalk, urban 
 beach, fountains, and best of all, a series of floating barges complet
 e with floating gardens, a restaurant and bar, and nets that will susp
 end visitors over the water.\n\nFor more information visit http://phil
 lytodo.com/events/live-and-local-music-at-spruce-street-harbor-park-1
DTSTART:20140724T230000Z
DTEND:20140725T020000Z
CATEGORIES:music, waterfront
LOCATION:Spruce Street Harbor Park
WEBSITE:http://www.delawareriverwaterfront.com/planning/news/2014/04/1
 8/coming-soon-spruce-street-harbor-park
URL:http://www.delawareriverwaterfront.com/planning/news/2014/04/18/co
 ming-soon-spruce-street-harbor-park
CONTACT:215-922-2386
ORGANIZER;CN="Delaware River Waterfront Corp.":http://phillytodo.com/p
 rofile/DelawareRiverWaterfrontCorp
ATTACH;FMTTYPE="image/jpeg":http://storage.ning.com/topology/rest/1.0/
 file/get/3054973937?profile=original
ATTENDEE;ROLE=REQ-PARTICIPANT;PARTSTAT=ACCEPTED;RSVP=TRUE;CN="Delaware
  River Waterfront Corp.":http://phillytodo.com/profile/DelawareRiverWa
 terfrontCorp
END:VEVENT
END:VCALENDAR
