BEGIN:VCALENDAR
PRODID:NingEventWidget-v1
VERSION:2.0
METHOD:PUBLISH
BEGIN:VEVENT
UID:4320450:Event:61307
DTSTAMP:20260425T125924Z
SUMMARY:Lisa Naples: Using the Sun to Find North
DESCRIPTION:\"Using the Sun to Find North” is one of the chief ways 
 people navigate when they find themselves disoriented and with no comp
 ass or map.  This exhibition, by The Clay Studio Resident Artist Alu
 mni Lisa Naples, includes series that explore this theme.  One of th
 e series featured, “Wayfinding” uses a collection of plates to tra
 ck the progress of a fallen red-tailed hawk, as she faces choices that
  will determine the quality of her last days. Naples also uses stop-fr
 ame locomotion in “Impermanence,” which explores the static, and e
 ver-changing way of life. The exhibition will be on display at The Cla
 y Studio’s Gallery from October 2nd – November 15th and will be av
 ailable to view online in its entirety during that time. If you are in
 terested in a more in-depth look at the exhibition, visit The Clay Stu
 dio’s website, where you can reserve a spot in a limited number of s
 afe, socially distant, private gallery tours, led by Lisa Naples.\n\nF
 or more information visit http://phillytodo.com/events/lisa-naples-usi
 ng-the-sun-to-find-north
DTSTART:20201002T150000Z
DTEND:20201115T230000Z
CATEGORIES:exhibition
LOCATION:The Clay Studio
WEBSITE:https://www.theclaystudio.org/exhibitions/using-the-sun-to-fin
 d-north
URL:https://www.theclaystudio.org/exhibitions/using-the-sun-to-find-no
 rth
CONTACT:215) 925-3453 x 23
ORGANIZER;CN="Bryan Chan":http://phillytodo.com/profile/BryanChan
ATTACH;FMTTYPE="image/jpeg":https://storage.ning.com/topology/rest/1.0
 /file/get/7941387872?profile=original
ATTENDEE;ROLE=REQ-PARTICIPANT;PARTSTAT=ACCEPTED;RSVP=TRUE;CN="Bryan Ch
 an":http://phillytodo.com/profile/BryanChan
END:VEVENT
END:VCALENDAR
