BEGIN:VCALENDAR
PRODID:NingEventWidget-v1
VERSION:2.0
METHOD:PUBLISH
BEGIN:VEVENT
UID:4320450:Event:48005
DTSTAMP:20260425T130617Z
SUMMARY:Lisa Lampanelli at Valley Forge Music Fair
DESCRIPTION:Valley Forge Casino Resort (1160 First Avenue) presents 
 Comedy’s Lovable Queen of Mean” Lisa Lampanelli on Saturday, Janu
 ary 28, 2017 as part of Valley Forge Music Fair. Lisa Lampanelli’s r
 aunchy, gut-busting performances earned the comedian a 2016 Best Comed
 y Album Grammy nomination. Lisa combines personal bits about her life 
 with her trademark audience insults, resulting in her most hysterical 
 stand-up special yet!  She is known for her outrageous pot shots at c
 elebrities as well as references to her own weight and sexuality. Her 
 acid wit and boisterous delivery has won many fans, some of whom had g
 ravitated towards Andrew Dice Clay. She has been a regular at celebrit
 y roasts on Comedy Central and has made a couple of television and fil
 m appearances. Showtimes are 7:00pm and 10:00pm, with doors opening on
 e hour in advance. Tickets are on sale now at Ticketmaster.com for $47
 .50 each.\n\nFor more information visit http://phillytodo.com/events/l
 isa-lampanelli-at-valley-forge-music-fair
DTSTART:20170129T000000Z
DTEND:20170129T030000Z
CATEGORIES:comedy, show
LOCATION:Valley Forge Casino Resort
WEBSITE:
URL:
CONTACT:610-354-8222
ORGANIZER:Valley Forge Casino Resort
ATTACH;FMTTYPE="image/jpeg":http://storage.ning.com/topology/rest/1.0/
 file/get/3054998822?profile=original
ATTENDEE;ROLE=REQ-PARTICIPANT;PARTSTAT=ACCEPTED;RSVP=TRUE;CN="Aversa P
 R & Events":http://phillytodo.com/profile/KoryAversa277
END:VEVENT
END:VCALENDAR
