BEGIN:VCALENDAR
PRODID:NingEventWidget-v1
VERSION:2.0
METHOD:PUBLISH
BEGIN:VEVENT
UID:4320450:Event:18707
DTSTAMP:20260425T173559Z
SUMMARY:Liquor & Lace Trunk Show
DESCRIPTION:We had so much fun at last year's trunk show, we just had 
 to do it again!  One of our favorite designers will be here showing t
 heir new line as well as a few classic pieces.  Inspired by the vint
 age under-things worn by the starlets of Hollywood’s Golden Age, Di
 rty Dolls Lingerie is bringing glamour back into the everyday.  Reps
  will be on hand to offer Professional Bra Fittings, and Dollface St
 udios will be around to offer special pricing on their fabulous boudo
 ir photo shoots.  We're also giving a lesson on the Art of the Strip
 tease!\n \n15% off all Dirty Dolls items, 10% off all products in-sto
 re\n\nFor more information visit http://phillytodo.com/events/liquor-l
 ace-trunk-show
DTSTART:20111022T230000Z
DTEND:20111023T020000Z
CATEGORIES:fashion
LOCATION:Liberties Walk
WEBSITE:http://www.thevelvetlily.com/pages/events
URL:http://www.thevelvetlily.com/pages/events
CONTACT:(267) 687-7973
ORGANIZER:The Velvet Lily
ATTACH;FMTTYPE="image/jpeg":http://storage.ning.com/topology/rest/1.0/
 file/get/3054954930?profile=original
ATTENDEE;ROLE=REQ-PARTICIPANT;PARTSTAT=ACCEPTED;RSVP=TRUE;CN="Meghan D
 uffey":http://phillytodo.com/profile/MeghanDuffey
END:VEVENT
END:VCALENDAR
