BEGIN:VCALENDAR
PRODID:NingEventWidget-v1
VERSION:2.0
METHOD:PUBLISH
BEGIN:VEVENT
UID:4320450:Event:6509
DTSTAMP:20260425T124841Z
SUMMARY:Line Dance Caberet
DESCRIPTION:Layed Back Wednesday'sLine Dance Caberetis BACKEach & Ever
 y Wednesday's NiteStarting April 6, 20116pm -11pmThe Urban Education C
 enter7567 Haverford Ave.Phila. Pa. (behind the McDonalds)Line Dance Cl
 ass: 6pm - 7pmBy: Yolanda SampleCome learn some of the hottest line da
 nces outBeginners Class learn line dances likeBooty Call, Wild wild We
 st, Jazzy Lady, I Want etc.Music By: DJ Shawn TLite Buffet Served, By:
  MarioBYOB & BYOF, Setups AvailableFREE ParkingAdmission: $7.00For Mor
 e Info Contact:Yolanda Sample: 267.592.2236Mario aka Hustleman: 267.24
 0.0584DJ Shawn T: 267.977.4312\n\nFor more information visit http://ph
 illytodo.com/events/line-dance-caberet
DTSTART:20110406T220000Z
DTEND:20110407T030000Z
CATEGORIES:line, dancing
LOCATION:The Urban Education Center
WEBSITE:
URL:
CONTACT:267.977.4312 Shawn T
ORGANIZER:
ATTACH;FMTTYPE="image/jpeg":
ATTENDEE;ROLE=REQ-PARTICIPANT;PARTSTAT=ACCEPTED;RSVP=TRUE;CN="Fade 2 B
 lack Entertainment":http://phillytodo.com/profile/OlSkoolEntertainment
 749
END:VEVENT
END:VCALENDAR
