BEGIN:VCALENDAR
PRODID:NingEventWidget-v1
VERSION:2.0
METHOD:PUBLISH
BEGIN:VEVENT
UID:4320450:Event:33289
DTSTAMP:20260425T143451Z
SUMMARY:\"Lima Bean Riot\" Performs in Victory Beer Hall
DESCRIPTION:Join us as \"Lima Bean Riot\" performs live on the stage i
 nside Victory Beer Hall starting at 8pm.Contact parties@xfinitylive.co
 m to add your name to the guest list and to book your VIP Party during
  the show.Free parking is available after 8:05PM.\n\nFor more informat
 ion visit http://phillytodo.com/events/lima-bean-riot-performs-in-vict
 ory-beer-hall
DTSTART:20130803T000000Z
DTEND:20130803T060000Z
CATEGORIES:live, music
LOCATION:XFINITY Live! Philadelphia
WEBSITE:http://www.xfinitylive.com
URL:http://www.xfinitylive.com
CONTACT:215-609-1678
ORGANIZER;CN="Stepfanie McCaffrey":http://phillytodo.com/profile/Stepf
 anieMcCaffrey
ATTACH;FMTTYPE="image/jpeg":
ATTENDEE;ROLE=REQ-PARTICIPANT;PARTSTAT=ACCEPTED;RSVP=TRUE;CN="Stepfani
 e McCaffrey":http://phillytodo.com/profile/StepfanieMcCaffrey
END:VEVENT
END:VCALENDAR
