BEGIN:VCALENDAR
PRODID:NingEventWidget-v1
VERSION:2.0
METHOD:PUBLISH
BEGIN:VEVENT
UID:4320450:Event:2547
DTSTAMP:20260425T173504Z
SUMMARY:LIGHT DRIFT
DESCRIPTION:Imagine glowing, colorful orbs lining the Schuylkill and r
 iverbank that sense your presence and change color at your touch. The 
 first-ever interactive public art installation from the Mural Arts Pro
 gram, Light Drift brings 90 luminescent orbs by international artist M
 eejin Yoon to the Schuylkill Banks for a three-day outdoor exhibition 
 as part of DesignPhiladelphia.\n\nDon't miss this one-of-a-kind artist
 ic experience that connects people with art and the river!\n\nFunding 
 for this project comes from the Take Me to the River grant program, ad
 ministered by the Delaware Valley Regional Planning Commission with fu
 nding from the William Penn Foundation. Presented in partnership with 
 Fairmount Park, the Schuylkill River Development Corporation and teh P
 hiladelphia Water Department. Additional support through MIT HASS Gran
 t, MIT FAST Grant and MIT UROP Program.\n\n***On view Friday, October 
 15 - Sunday, October 17 from Dusk (6:30 PM) to Dawn (7:00 AM)\n\nFor m
 ore information visit http://phillytodo.com/events/light-drift
DTSTART:20101015T223000Z
DTEND:20101018T110000Z
CATEGORIES:art, installation, event
LOCATION:Schuylkill Banks
WEBSITE:
URL:
CONTACT:
ORGANIZER;CN="Jenn McCreary":http://phillytodo.com/profile/JennMcCrear
 y
ATTACH;FMTTYPE="image/jpeg":http://storage.ning.com/topology/rest/1.0/
 file/get/3054950693?profile=original
ATTENDEE;ROLE=REQ-PARTICIPANT;PARTSTAT=ACCEPTED;RSVP=TRUE;CN="Jenn McC
 reary":http://phillytodo.com/profile/JennMcCreary
END:VEVENT
END:VCALENDAR
