BEGIN:VCALENDAR
PRODID:NingEventWidget-v1
VERSION:2.0
METHOD:PUBLISH
BEGIN:VEVENT
UID:4320450:Event:2545
DTSTAMP:20260425T143450Z
SUMMARY:LIFE IS A CABARET ~ Delilah's 19th Anniversary Party
DESCRIPTION:Delilah's The Gentlemen's Club & Steakhouse invites you to
  join them on Wednesday, October 20th for LIFE IS A CABARETâ€¦. Delila
 hâ€™s 19th Anniversary Party. Come and see who will be crowned Queen o
 f the Pole during Delilahâ€™s 2nd Annual Pole Champion Contest. This y
 earâ€™s winner will shimmy away with over $1000 in cash and prizes. Th
 ere will also be provocative performances by Delilahâ€™s Award Winning
  Dance Team and so much more.\n\n\nSelect open bar and butlered horsâ€
 ™dourves begin at 7pm. To reserve a table for bottle service please co
 ntact 215-625-2800 x101\n\nDress is Upscale and Fashionable. The offic
 ial after party will be held at Zee Bar.\n\nFor more information visit
  http://phillytodo.com/events/life-is-a-cabaret-delilahs
DTSTART:20101020T230000Z
DTEND:20101021T060000Z
CATEGORIES:anniversary, party
LOCATION:Delilah's Gentlemen's Club & Steakhouse
WEBSITE:http://www.delilahs.com
URL:http://www.delilahs.com
CONTACT:215-625-2800 x101
ORGANIZER;CN="Delilah's":http://phillytodo.com/profile/Delilahs
ATTACH;FMTTYPE="image/jpeg":http://storage.ning.com/topology/rest/1.0/
 file/get/3054950764?profile=original
ATTENDEE;ROLE=REQ-PARTICIPANT;PARTSTAT=ACCEPTED;RSVP=TRUE;CN="Delilah'
 s":http://phillytodo.com/profile/Delilahs
END:VEVENT
END:VCALENDAR
