BEGIN:VCALENDAR
PRODID:NingEventWidget-v1
VERSION:2.0
METHOD:PUBLISH
BEGIN:VEVENT
UID:4320450:Event:32759
DTSTAMP:20260425T125020Z
SUMMARY:Liberty 360 3D Show
DESCRIPTION:Liberty 360 3D Show in the PECO Theater takes visitors on 
 a patriotic adventure led by Benjamin Franklin in 3D. From the bald ea
 gle to the Statue of Liberty, discover the stories behind some of Amer
 ica’s most beloved symbols of freedom. The 15-minute film surrounds 
 the audience in the customized wraparound PECO Theater.\nHistoric Phil
 adelphia Center, 6th & Chestnut Streets\nOpen daily, year-round, 363 d
 ays a year\nShows every 20 minutes\nJune 24 – August 10: 10 am - 8 p
 m, Mon – Sat; 10 am - 6 pm, Sun\n\n\n\n$6 adults, $5 senior/military
 /student and children 12 & under, $20 family four-pack \nDuration: 15
  minutes \n\n\n\n\n\n\n\n\n\n\n\n\n\n\n\n\n\nFor more information vis
 it http://phillytodo.com/events/liberty-360-3d-show-1
DTSTART:20130624T140000Z
DTEND:20130811T000000Z
CATEGORIES:3d, show
LOCATION:Historic Philadelphia Center
WEBSITE:http://www.historicphiladelphia.org
URL:http://www.historicphiladelphia.org
CONTACT:
ORGANIZER;CN="Cari Feiler Bender":http://phillytodo.com/profile/CariFe
 ilerBender
ATTACH;FMTTYPE="image/jpeg":http://storage.ning.com/topology/rest/1.0/
 file/get/3054965634?profile=original
ATTENDEE;ROLE=REQ-PARTICIPANT;PARTSTAT=ACCEPTED;RSVP=TRUE;CN="Cari Fei
 ler Bender":http://phillytodo.com/profile/CariFeilerBender
END:VEVENT
END:VCALENDAR
