BEGIN:VCALENDAR
PRODID:NingEventWidget-v1
VERSION:2.0
METHOD:PUBLISH
BEGIN:VEVENT
UID:4320450:Event:31717
DTSTAMP:20260425T124916Z
SUMMARY:Let Them Eat Cake
DESCRIPTION:Forty professional bakers, pastry chefs and students prese
 nt their finest fondant creations during the 9th “Let Them Eat Cake:
  A Night at the Movies” on Monday, April 15, 2013 at the Marion (130
 1 Route 130 South, Cinnaminson, New Jersey). Dessert lovers, food fana
 tics and brides/grooms-to-be will converge for the 9th annual competit
 ion featuring the best of the best. Guests will enjoy samplings of the
  area’s finest pastry decorated in movie themes, complimentary Korbe
 l champagne, fabulous sounds from Back 2 Life by Brandywine Valley Tal
 ent, and the opportunity to meet celebrity judges and food network sta
 rs including Ron Ben-Israel, host of cooking competition TV show Sweet
  Genius. All proceeds benefit Cancer Research & Treatment at City of H
 ope. Tickets are $40 in advance and $50 at the door. For tickets, visi
 t http://www.cityofhope.org/giving/regional-fundraising-offices/phila
 delphia/let-them-eat-cake/Pages/default.aspx. Parking is free.\n\nFor
  more information visit http://phillytodo.com/events/let-them-eat-cake
DTSTART:20130415T220000Z
DTEND:20130416T010000Z
CATEGORIES:cake, design, competition, eating, celebration
LOCATION:The Merion
WEBSITE:http://www.themerion.com/
URL:http://www.themerion.com/
CONTACT:856-829-2111
ORGANIZER:Harry Giordano
ATTACH;FMTTYPE="image/jpeg":
ATTENDEE;ROLE=REQ-PARTICIPANT;PARTSTAT=ACCEPTED;RSVP=TRUE;CN="Aversa P
 R & Events":http://phillytodo.com/profile/KoryAversa277
END:VEVENT
END:VCALENDAR
