BEGIN:VCALENDAR
PRODID:NingEventWidget-v1
VERSION:2.0
METHOD:PUBLISH
BEGIN:VEVENT
UID:4320450:Event:4045
DTSTAMP:20260425T142535Z
SUMMARY:LET THEM EAT CAKE! A Wedding Cake Design Competition
DESCRIPTION:Hundreds of Brides-to-be and fondant foodies will convene 
 to sample  the city's best buttercream and witness the incredible cre
 ativity and elegant designs  on April 11th,  at LOEWS Philadelphia f
 or  LET THEM EAT CAKE  . Sample over 40 pieces of cake while dancing
  the night away to Brandywine Valley Talents The Strangers, sip KORBEL
  Cocktails,  even get instant pictures by Majestic Images .  The nig
 ht is sure to please everyone while offering the best sugar rush ever
  seen in Philadelphia !  \n \nProceeds of the evening benefit  The
  City of Hope  \n \nThe proceeds of the evening go to the City of Ho
 pe\n\nFor more information visit http://phillytodo.com/events/let-them
 -eat-cake-a-wedding
DTSTART:20110411T220000Z
DTEND:20110412T020000Z
CATEGORIES:fundraiser
LOCATION:LOEWS Philadelphia
WEBSITE:http://www.cityof hope.org/cake
URL:http://www.cityof hope.org/cake
CONTACT:215-985-0870
ORGANIZER:Harry Giordano
ATTACH;FMTTYPE="image/jpeg":http://storage.ning.com/topology/rest/1.0/
 file/get/3054953949?profile=original
ATTENDEE;ROLE=REQ-PARTICIPANT;PARTSTAT=ACCEPTED;RSVP=TRUE;CN=sarah:htt
 p://phillytodo.com/profile/sarah472
END:VEVENT
END:VCALENDAR
