BEGIN:VCALENDAR
PRODID:NingEventWidget-v1
VERSION:2.0
METHOD:PUBLISH
BEGIN:VEVENT
UID:4320450:Event:35207
DTSTAMP:20260425T204924Z
SUMMARY:Let’s Make a Deal GayBINGO!
DESCRIPTION:January 11 – Let’s Make a Deal GayBINGO! – Wear your
  costume and bring wacky items to play along!\n\nThis fun event is ope
 n to anyone who enjoys campy humor. Cash prizes will be awarded in eac
 h game.  Tickets for GayBINGO are on sale at 215-731-9255.  Reserved
  Seating tickets on the Bingo floor are $25. General admission tickets
  in the balcony are $20.\n \nGayBINGO was named Best of Philly (Gay E
 vent), won PGN's Lambda Award for Best Fundraiser, and was the subject
  of a popular WHYY documentary.  GayBINGO has also been featured in t
 he LA Times, Washington Post, and USA Today.  The event has raised ov
 er $2 million to date.  GayBINGO sponsors are ING, Tavern on Camac, S
 tarbucks, Philadelphia Weekly, and Philly AIDS Thrift.\n \nAIDS Fund 
 produces a variety of fundraising and awareness programs throughout th
 e year, including AIDS Walk Philly, AIDS Run Philly, GayBINGO!, Black-
 Tie GayBINGO!, World AIDS Day, and Workplace Giving Campaigns.  The A
 IDS Fund grant program supports partner organizations in the Philadelp
 hia Region that provide AIDS and HIV-related services, education, and 
 prevention including increasing public awareness of HIV/AIDS issues. 
  AIDS Fund is also the Philadelphia affiliate of The Names Project, cu
 rating panels of The AIDS Memorial Quilt for a local audience.  The 2
 7th Annual AIDS Walk Philly will take place on Sunday, October 20, 201
 3. Contact AIDS Fund at 215-731-9255 or www.aidsfundphilly.org. Follo
 w AIDS Fund on Facebook and Twitter: www.facebook.com/AIDSWalkPhilly, 
 www.facebook.com/gaybingophilly, and twitter.com/AIDSWalkPhilly.\n\nFo
 r more information visit http://phillytodo.com/events/let-s-make-a-dea
 l-gaybingo
DTSTART:20140111T230000Z
DTEND:20140112T050000Z
CATEGORIES:special, event
LOCATION:Gershman Y
WEBSITE:
URL:
CONTACT:215-731-9255
ORGANIZER;CN="Cari Feiler Bender":http://phillytodo.com/profile/CariFe
 ilerBender
ATTACH;FMTTYPE="image/jpeg":http://storage.ning.com/topology/rest/1.0/
 file/get/3054967562?profile=original
ATTENDEE;ROLE=REQ-PARTICIPANT;PARTSTAT=ACCEPTED;RSVP=TRUE;CN="Cari Fei
 ler Bender":http://phillytodo.com/profile/CariFeilerBender
END:VEVENT
END:VCALENDAR
