BEGIN:VCALENDAR
PRODID:NingEventWidget-v1
VERSION:2.0
METHOD:PUBLISH
BEGIN:VEVENT
UID:4320450:Event:35293
DTSTAMP:20260425T144805Z
SUMMARY:Let's Go Dutch! The Darren Daulton Foundation Board of Directo
 rs
DESCRIPTION:Come out for an event filled with an amazing action, fabul
 ous food and live entertainment to support The Darren Daulton Foundati
 on! The Darren Daulton Foundation is a non-profitÂ organizationÂ whose
 Â mission is to assist those suffering from brain cancer, brain trauma
  and brain injury.Â Â Darren, some former teammates and friends will b
 e in attendance!\nChoose from multiple ticket packages.Â  Basic ticket
 s include:\n\nOpen Bar 7PM-Midnight\nGreat Food\nLive Entertainment\nU
 nforgetable Evening!\n\nWe hope you will be able to join us in Februar
 y!Â  Questions? Contact Brett Datto atbrettdatto@yahoo.com.\nParking:Â
   Valet Service will be offered.\nTax Deduction Information\nÂ \n$125\
 nPlease Note: 51% of your ticket cost is tax deductible. 49% is NOT ta
 x deductible as it represents the estimated value of the goods and ser
 vices you are receiving in exchange for your support. Additional contr
 ibutions to the Darren Daulton Foundation may be 100% tax deductible.Â
  Â  Please consult a tax professional to confirm your deduction. This 
 letter will serve as your receipt.\nÂ \nÂ $175\nPlease Note: 65% of yo
 ur ticket cost is tax deductible. 35% is NOT tax deductible as it repr
 esents the estimated value of the goods and services you are receiving
  in exchange for your support. Additional contributions to the Darren 
 Daulton Foundation may be 100% tax deductible.Â Â  Please consult a ta
 x professional to confirm your deduction. This letter will serve as yo
 ur receipt.\nÂ \nÂ All Star Package = $2500\nPlease Note: 71% or $1756
 .00 of your ticket cost is tax deductible. 29% is NOT tax deductible a
 s it represents the estimated value of the goods and services you are 
 receiving in exchange for your support. Additional contributions to th
 e Darren Daulton Foundation may be 100% tax deductible.Â Â  Please con
 sult a tax professional to confirm your deduction. This letter will se
 rve as your receipt.\nÂ \nTickets are non-refundable.Â  Please contact
 Â BrettDatto@yahoo.comÂ with questions.Â \n\nHave questions about LET'
 S GO DUTCH!!?Â Contact The Darren Daulton Foundation Board of Director
 s\n\nFor more information visit http://phillytodo.com/events/let-s-go-
 dutch-the-darren-daulton-foundation-board-of-directors
DTSTART:20140202T000000Z
DTEND:20140202T043000Z
CATEGORIES:fundraiser
LOCATION:Vie
WEBSITE:https://www.eventbrite.com/e/lets-go-dutch-tickets-9804340045
URL:https://www.eventbrite.com/e/lets-go-dutch-tickets-9804340045
CONTACT:
ORGANIZER:Darren Daulton Foundation
ATTACH;FMTTYPE="image/jpeg":http://storage.ning.com/topology/rest/1.0/
 file/get/3054968229?profile=original
ATTENDEE;ROLE=REQ-PARTICIPANT;PARTSTAT=ACCEPTED;RSVP=TRUE;CN="Caleb Me
 zzy":http://phillytodo.com/profile/CalebMezzy
END:VEVENT
END:VCALENDAR
