BEGIN:VCALENDAR
PRODID:NingEventWidget-v1
VERSION:2.0
METHOD:PUBLISH
BEGIN:VEVENT
UID:4320450:Event:170770
DTSTAMP:20260425T111105Z
SUMMARY:Leroy Johnson – In Memoriam
DESCRIPTION:The Clay Studio presents a special In Memoriam exhibition 
 in honor of the late mixed-media artist Leroy Johnson (1937-2022). A n
 ative of Philadelphia, Johnson’s work was poetic and reflective of h
 is many experiences in the inner city and took the form of painting, c
 ollage, and assemblage sculpture. Johnson’s In Memoriam exhibition w
 ill be on display in the Jill Bonovitz Gallery from October 13 to Dece
 mber 31, 2022.\n \nJohnson received a Masters of Human Services from 
 Lincoln University in 1988 and was a 2014 Pew Fellow at The Pew Center
  for Arts and Heritage. His work was widely exhibited, with solo shows
  at Philadelphia’s Magic Gardens, Tirza Yalon Kolton Ceramic Gallery
  in Tel Aviv, and Camden County Historical Society. Additionally, John
 son was a participating or resident artist for several community-based
  arts projects, including The Village of Arts and Humanities, Taller P
 uertorriqueño, and The Church of the Advocate, St. Francis Academy in
  Baltimore, Maryland. Most recently, Johnson was selected for the 77th
  Juried Exhibition at Woodmere Art Museum, included in the #WE HAVE NO
  PRESIDENT exhibition at Marginal Utility, and was the inaugural resid
 ent artist at the Art Barn in Amaranth, PA.\n\nFor more information vi
 sit http://phillytodo.com/events/leroy-johnson-in-memoriam
DTSTART:20221013T150000Z
DTEND:20221231T220000Z
CATEGORIES:art, exhibition
LOCATION:The Clay Studio
WEBSITE:https://www.theclaystudio.org/exhibitions/leroy-johnson-in-mem
 orium
URL:https://www.theclaystudio.org/exhibitions/leroy-johnson-in-memoriu
 m
CONTACT:215-925-3453
ORGANIZER:\
ATTACH;FMTTYPE="image/jpeg":https://storage.ning.com/topology/rest/1.0
 /file/get/10813739493?profile=original
ATTENDEE;ROLE=REQ-PARTICIPANT;PARTSTAT=ACCEPTED;RSVP=TRUE;CN="Bryan Ch
 an":http://phillytodo.com/profile/BryanChan
END:VEVENT
END:VCALENDAR
