BEGIN:VCALENDAR
PRODID:NingEventWidget-v1
VERSION:2.0
METHOD:PUBLISH
BEGIN:VEVENT
UID:4320450:Event:48918
DTSTAMP:20260425T112424Z
SUMMARY:Leper + Chip by Lee Coffey
DESCRIPTION:Inis Nua Theatre Company presents the American premiere of
  Irish pub play Leper + Chip by Lee Coffey, from February 15 to March 
 5, 2017, at The Drake (1521 Spruce St). Boy (Leper) meets Girl (Chip) 
 during a fight at a party. He’s out to get even the next day, but an
 tagonism turns to love. Frantic and funny, Leper + Chip is a gritty, i
 nner city Dublin odyssey of two lovers trying to get out. Tickets are 
 $25-35 and on sale at (215) 454-9776 or inisnuatheatre.org.\n\nFor mor
 e information visit http://phillytodo.com/events/leper-chip-by-lee-cof
 fey
DTSTART:20170216T000000Z
DTEND:20170305T190000Z
CATEGORIES:play, theatre
LOCATION:Louis Bluver Theatre at The Drake
WEBSITE:https://inisnuatheatre.secure.force.com/ticket#details_a0S3700
 0003p5SaEAI
URL:https://inisnuatheatre.secure.force.com/ticket#details_a0S37000003
 p5SaEAI
CONTACT:215-454-9776
ORGANIZER:Inis Nua
ATTACH;FMTTYPE="image/jpeg":http://storage.ning.com/topology/rest/1.0/
 file/get/3055002103?profile=original
ATTENDEE;ROLE=REQ-PARTICIPANT;PARTSTAT=ACCEPTED;RSVP=TRUE;CN="Aversa P
 R & Events":http://phillytodo.com/profile/KoryAversa277
END:VEVENT
END:VCALENDAR
