BEGIN:VCALENDAR
PRODID:NingEventWidget-v1
VERSION:2.0
METHOD:PUBLISH
BEGIN:VEVENT
UID:4320450:Event:36075
DTSTAMP:20260425T160914Z
SUMMARY:Lehigh  Ave. Arts Festival
DESCRIPTION:The Lehigh Ave. Arts Festival  will feature artisan and c
 raft vendors, food trucks, lots of activities for your little ones, li
 ve music and for the first time ever an inflatable sculpture contest.\
 n\nFor more information visit http://phillytodo.com/events/lehigh-ave-
 arts-festival
DTSTART:20140426T040000Z
DTEND:20140427T035900Z
CATEGORIES:festival
LOCATION:Portside Arts Center
WEBSITE:http://www.lehighavenueartsfestival.org/
URL:http://www.lehighavenueartsfestival.org/
CONTACT:215.427.1514
ORGANIZER;CN="Portside Arts Center":http://phillytodo.com/profile/Port
 sideArtsCenter
ATTACH;FMTTYPE="image/jpeg":http://storage.ning.com/topology/rest/1.0/
 file/get/3054974850?profile=original
ATTENDEE;ROLE=REQ-PARTICIPANT;PARTSTAT=ACCEPTED;RSVP=TRUE;CN="Portside
  Arts Center":http://phillytodo.com/profile/PortsideArtsCenter
END:VEVENT
END:VCALENDAR
