BEGIN:VCALENDAR
PRODID:NingEventWidget-v1
VERSION:2.0
METHOD:PUBLISH
BEGIN:VEVENT
UID:4320450:Event:31645
DTSTAMP:20260425T125025Z
SUMMARY:Lego Club / Game Day
DESCRIPTION:Play with Legos, and enjoy the fun while building your own
  personal favorite items\n\nFor more information visit http://phillyto
 do.com/events/lego-club-game-day
DTSTART:20130506T200000Z
DTEND:20130506T223000Z
CATEGORIES:lego, games
LOCATION:Location: Lansdowne Public Library
WEBSITE:http://lansdownepubliclibrary.com/
URL:http://lansdownepubliclibrary.com/
CONTACT:(610) 623-0239
ORGANIZER;CN="Lansdowne Public Library":http://phillytodo.com/profile/
 LansdownePublicLibrary
ATTACH;FMTTYPE="image/jpeg":http://storage.ning.com/topology/rest/1.0/
 file/get/3054965630?profile=original
ATTENDEE;ROLE=REQ-PARTICIPANT;PARTSTAT=ACCEPTED;RSVP=TRUE;CN="Lansdown
 e Public Library":http://phillytodo.com/profile/LansdownePublicLibrary
END:VEVENT
END:VCALENDAR
