BEGIN:VCALENDAR
PRODID:NingEventWidget-v1
VERSION:2.0
METHOD:PUBLISH
BEGIN:VEVENT
UID:4320450:Event:41232
DTSTAMP:20260425T185649Z
SUMMARY:Legendary: Inside the House Ballroom Scene
DESCRIPTION: \nThe African American Museum in Philadelphia is proud t
 o present “Legendary:  Inside the House Ballroom Scene”, the pre
 miere of the Philadelphia-based work of photographer Gerard Gaskin.  
 Gaskin’s work immerses the viewer in the culture of house balls of t
 he African American and Latino gay, transgender and queer community. 
 The work celebrates the exuberant world of artistry and self-fashioni
 ng where a frequently marginalized community can be their most vibrant
  and spectacular selves.  “Legendary” is comprised of photographs 
 taken at events in Philadelphia, as well as Richmond, Washington, DC a
 nd New York City.  The resulting images represent a collaboration bet
 ween Gaskin, a camera laden outsider who has been attending balls for 
 twenty years, and the house members who allowed him to enter the intim
 ate world of ball culture.\nGerard Gaskin was the 2012 recipient of th
 e Duke University Center for Documentary Studies/Honickman First Book 
 Prize in Photography.  His photographs have appeared in the New York 
 Times, Newsday, Black Enterprise, OneWorld, Teen People, Caribbean Bea
 t and DownBeat.  Among his other clients are the record companies Isl
 and, Sony, Def Jam and Mercury.  His work has been featured in a solo
  and group exhibition, both nationally and internationally.   His wor
 k is also held in the collections of such institutions as the Museum o
 f the City of New York and the Schomburg Center for Research in Black 
 Culture.\n\nFor more information visit http://phillytodo.com/events/le
 gendary-inside-the-house-ballroom-scene
DTSTART:20150708T040000Z
DTEND:20150817T035900Z
CATEGORIES:exhibition
LOCATION:African American Museum in Philadelphia
WEBSITE:http://www.aampmuseum.org/
URL:http://www.aampmuseum.org/
CONTACT:(215) 574-0380
ORGANIZER;CN="Skai Blue Media":http://phillytodo.com/profile/SkaiBlueM
 edia
ATTACH;FMTTYPE="image/jpeg":
ATTENDEE;ROLE=REQ-PARTICIPANT;PARTSTAT=ACCEPTED;RSVP=TRUE;CN="Skai Blu
 e Media":http://phillytodo.com/profile/SkaiBlueMedia
END:VEVENT
END:VCALENDAR
