BEGIN:VCALENDAR
PRODID:NingEventWidget-v1
VERSION:2.0
METHOD:PUBLISH
BEGIN:VEVENT
UID:4320450:Event:41140
DTSTAMP:20260425T125756Z
SUMMARY:Learn to Meditate in Half a Day
DESCRIPTION:An introductory meditation course in which you will learn 
 the basics, from why we would want to meditate to how to do it!  How 
 do we set up our meditation space?  How long do we meditate?  What d
 o we focus on?  What are some techniques to help us overcome distract
 ions?  This course will include guided meditations.\nJuly 18th\n11:00
 am-2:00pm\n$15\n\nFor more information visit http://phillytodo.com/eve
 nts/learn-to-meditate-in-half-a-day
DTSTART:20150718T150000Z
DTEND:20150718T180000Z
CATEGORIES:meditation, class, wellness, buddhism, health, stress
LOCATION:Amitayus Kadampa Buddhist Center
WEBSITE:http://www.meditationinphiladelphia.org/learn-to-meditate-in-h
 alf-a-day-july-18/
URL:http://www.meditationinphiladelphia.org/learn-to-meditate-in-half-
 a-day-july-18/
CONTACT:267-702-3817
ORGANIZER;CN="Education Program Coordinator":http://phillytodo.com/pro
 file/EducationProgramCoordinator
ATTACH;FMTTYPE="image/jpeg":http://storage.ning.com/topology/rest/1.0/
 file/get/3054988601?profile=original
ATTENDEE;ROLE=REQ-PARTICIPANT;PARTSTAT=ACCEPTED;RSVP=TRUE;CN="Educatio
 n Program Coordinator":http://phillytodo.com/profile/EducationProgramC
 oordinator
END:VEVENT
END:VCALENDAR
