BEGIN:VCALENDAR
PRODID:NingEventWidget-v1
VERSION:2.0
METHOD:PUBLISH
BEGIN:VEVENT
UID:4320450:Event:56047
DTSTAMP:20260425T144252Z
SUMMARY:Latinx Community Day
DESCRIPTION:Play, explore, and discover the beauty of nature in an out
 door family festival celebrating Latinx culture. Families of all backg
 rounds are welcome to join us for canoeing, games, bilingual guided hi
 kes, live music, arts and crafts, and live animal shows, with a food t
 ruck on hand to fuel the fun. The rain date will be Saturday, October 
 13.\n \nThis free event is co-sponsored by Concilio de Organizaciones
  Hispanas and Congreso de Latinos Unidos; please RSVP. For transporta
 tion options, contact Eduardo Duenas at 610-909-0690.\n \nJuega, expl
 ora, y descubre la belleza de la naturaleza en un festival familiar al
  aire libre que celebra la cultura Latina. Las familias de todos los o
 rígenes son bienvenidas a participar de paseos en canoas, juegos, cam
 inatas con guías bilingües, manualidades y espectáculo de animales 
 en vivo, habrá música en vivo y un camión de comida para alimentar 
 la diversión. En caso de lluvia el evento será reprogramado para el 
 13 de Octubre. Este evento gratuito es co patrocinado por Concilio de 
 Organizaciones Hispanas y Congreso de Latinos Unidos. Para reservar ha
 z click en el enlace (link). Para opciones de transporte, comuníquese
  con Eduardo Dueñas al 610-909-0690.\n\nFor more information visit ht
 tp://phillytodo.com/events/latinx-community-day
DTSTART:20180922T140000Z
DTEND:20180922T180000Z
CATEGORIES:festival, ethnic, bilingual, music, food, nature
LOCATION:Schuylkill Center for Environmental Education
WEBSITE:http://www.schuylkillcenter.org/blog/event/latinx-community-da
 y/
URL:http://www.schuylkillcenter.org/blog/event/latinx-community-day/
CONTACT:215-482-7300
ORGANIZER;CN="The Schuylkill Center":http://phillytodo.com/profile/Ann
 aLehrMueser
ATTACH;FMTTYPE="image/jpeg":http://storage.ning.com/topology/rest/1.0/
 file/get/3055014846?profile=original
ATTENDEE;ROLE=REQ-PARTICIPANT;PARTSTAT=ACCEPTED;RSVP=TRUE;CN="The Schu
 ylkill Center":http://phillytodo.com/profile/AnnaLehrMueser
END:VEVENT
END:VCALENDAR
