BEGIN:VCALENDAR
PRODID:NingEventWidget-v1
VERSION:2.0
METHOD:PUBLISH
BEGIN:VEVENT
UID:4320450:Event:31576
DTSTAMP:20260425T100406Z
SUMMARY:Late Night Jazz: Fresh Cut Quintet
DESCRIPTION:Lenny Seidman...Co-director of \"Spoken Hand Percussion Or
 chesta\" will be putting on a free jazz performance at the Kimmel Cent
 er as part of the \"Philadelphia International Festival of the Arts\" 
 (PIFA) this Wednesday. \n  Guaranteed to include some of his reoccur
 ring Indian feels,  the question is \"Will there be any electronic in
 fluences this time?\" Possibly!\nWhat better reason is there to get dr
 essed up (not required, but hell \"why not?\") go out to eat @ one of 
 Philly's many great spots & have a drink on a Wednesday night? POINT P
 ROVEN! Well now that I think about it,  it could be free...waaaait IT
  IS FREE!\nWARNING: @ times during the performance you could spontaneo
 usly have an over whelming urge to bust out the Samba! I can't wait to
  see you there.\n\nFor more information visit http://phillytodo.com/ev
 ents/late-night-jazz-fresh-cut-quintet
DTSTART:20130411T020000Z
DTEND:20130411T040000Z
CATEGORIES:live, jazz
LOCATION:300 S. Broad Street Philadelphia, PA 19102 Kimmel Center For 
 The Performing Arts
WEBSITE:http://www.phillyfunguide.com/event/detail/440882653/Late_Nigh
 t_Jazz_Fresh_Cut_Quintet_
URL:http://www.phillyfunguide.com/event/detail/440882653/Late_Night_Ja
 zz_Fresh_Cut_Quintet_
CONTACT:
ORGANIZER;CN="Adam Rybarczyk @FoodPhreak":http://phillytodo.com/profil
 e/AdamRybarczyk
ATTACH;FMTTYPE="image/jpeg":
ATTENDEE;ROLE=REQ-PARTICIPANT;PARTSTAT=ACCEPTED;RSVP=TRUE;CN="Adam Ryb
 arczyk @FoodPhreak":http://phillytodo.com/profile/AdamRybarczyk
END:VEVENT
END:VCALENDAR
