BEGIN:VCALENDAR
PRODID:NingEventWidget-v1
VERSION:2.0
METHOD:PUBLISH
BEGIN:VEVENT
UID:4320450:Event:56261
DTSTAMP:20260425T131116Z
SUMMARY:LARGEST OUTDOOR FLEA MARKET IN THE CITY - SAT, SEPT 8TH! (22ND
  &amp; FAIRMOUNT)
DESCRIPTION:Philly's Largest Outdoor Flea Market Is Coming To The Fair
 mount Neighborhood Saturday, Sept 8thSurrounding The Historic Eastern 
 State Penitentiary at 22nd & Fairmount8AM til 5PM (But Early Birds Are
  Welcome!)More Than 150 Vendors Featuring Antique Furniture, Collectib
 les, Vintage Jewelry & Clothing, Home Furnishings, Art Work, Great Foo
 d & Much More!Parking Available In The Adjacent Lot At 2201 Fairmount 
 Ave, Phila, PA 19130Rain Date - Sunday215 - 625 - FLEA (3532)www.Phila
 FleaMarkets.org ;Proceeds Benefit The Bache-Martin Elementary School 
 A 22nd & Brown\n\nFor more information visit http://phillytodo.com/eve
 nts/largest-outdoor-flea-market-in-the-city-sat-sept-8th-22nd-amp
DTSTART:20180908T120000Z
DTEND:20180908T210000Z
CATEGORIES:flea, market
LOCATION:Surrounding The Historic Eastern State Penitentiary at 22nd &
 amp; Fairmount
WEBSITE:http://www.philafleamarkets.org
URL:http://www.philafleamarkets.org
CONTACT:215-625-3532
ORGANIZER;CN="Phila Flea Markets":http://phillytodo.com/profile/PhilaF
 leaMarkets
ATTACH;FMTTYPE="image/jpeg":
ATTENDEE;ROLE=REQ-PARTICIPANT;PARTSTAT=ACCEPTED;RSVP=TRUE;CN="Phila Fl
 ea Markets":http://phillytodo.com/profile/PhilaFleaMarkets
END:VEVENT
END:VCALENDAR
