BEGIN:VCALENDAR
PRODID:NingEventWidget-v1
VERSION:2.0
METHOD:PUBLISH
BEGIN:VEVENT
UID:4320450:Event:44308
DTSTAMP:20260425T160213Z
SUMMARY:Larger Works @ The Bride
DESCRIPTION:January 11 – February 26, 2016First Friday reception: Fe
 bruary 5, 5 – 7 pm\nInLiquid presents Larger Works, a solo show fea
 turing the monumental work of artist member John Turner at the Painted
  Bride Art Center Café Gallery. Turner’s mixed media works on canva
 s are massively scaled abstracts, heavily manipulated with many layers
  of paint and string applied by hand, and with scrapers, of varying si
 zes, and shapes. The process of adding each new layer is repeated, bot
 h vertically and horizontally, until spider-like lines and a thick wor
 ked surface appear over the canvas and string. Enamel and oil stick pa
 ints are applied over the existing texture, further abstracting the su
 rface of the work. The final piece is a heavily worked landscape that 
 plays with: light, form, and color (or the lack of color).\nTurner’s
  paintings play with perspective, having one impression when seen at a
  distance, and conveying quite a different meaning once viewed up clos
 e. Turner likens this to “the way sound waves can appear as a thin l
 ine, when seen from afar, but when amplified hundreds of times, become
  cavernous.”\nTurner has works in private collections from Princeton
 , New Jersey, to Los Angles, California. He is originally from Montrea
 l, Canada, and now lives and works in Philadelphia.\nSupport provided 
 in part by the Philadelphia Cultural Fund.\nGallery Hours at the Paint
 ed Bride Art Center are Tuesday through Saturday, 12pm to 6pm.\n\nFor 
 more information visit http://phillytodo.com/events/larger-works-the-b
 ride
DTSTART:20160205T220000Z
DTEND:20160206T000000Z
CATEGORIES:first, friday, reception
LOCATION:The Painted Bride Art Center
WEBSITE:https://paintedbride.org/
URL:https://paintedbride.org/
CONTACT:
ORGANIZER;CN="InLiquid Studios":http://phillytodo.com/profile/InLiquid
 Studios
ATTACH;FMTTYPE="image/jpeg":http://storage.ning.com/topology/rest/1.0/
 file/get/3054993182?profile=original
ATTENDEE;ROLE=REQ-PARTICIPANT;PARTSTAT=ACCEPTED;RSVP=TRUE;CN="InLiquid
  Studios":http://phillytodo.com/profile/InLiquidStudios
END:VEVENT
END:VCALENDAR
