BEGIN:VCALENDAR
PRODID:NingEventWidget-v1
VERSION:2.0
METHOD:PUBLISH
BEGIN:VEVENT
UID:4320450:Event:48231
DTSTAMP:20260425T161427Z
SUMMARY:Lantern Parade at Christmas Village in Philadelphia
DESCRIPTION:Children and families from around the region are invited t
 o join Christmas Village in Philadelphia's second Lantern Parade on We
 dnesday, November 30, starting at 5:15pm. Meet outside in front of the
  Christmas Village’s main stage on City Hall’s Northern Apron and 
 join the festive procession with your homemade and decorated lanterns 
 (battery please, no flame). Children's carolers from Walnut Street The
 atre will accompany the parade around City Hall with a stunt at the bi
 g Christmas tree on Dilworth Plaza. The highlight of the night will a 
 stage performance by the Philly POPS Festival Brass at the market’s 
 main stage as the grand finale. Here, the quintet will perform holiday
  favorites and set the perfect backdrop for a joint performance with a
 ll participants. Once the parade has ended, all participants are invit
 ed to enjoy a sweet treat together. Free to participate. Bring your ow
 n lantern. For more information, visit philachristmas.com.\n\nFor more
  information visit http://phillytodo.com/events/lantern-parade-at-chri
 stmas-village-in-philadelphia
DTSTART:20161130T221500Z
DTEND:20161130T234500Z
CATEGORIES:parade
LOCATION:City Hall Courtyard
WEBSITE:http://www.philachristmas.com/events.html
URL:http://www.philachristmas.com/events.html
CONTACT:(215) 268-7606
ORGANIZER:German American Marketing, Inc
ATTACH;FMTTYPE="image/jpeg":http://storage.ning.com/topology/rest/1.0/
 file/get/3055001684?profile=original
ATTENDEE;ROLE=REQ-PARTICIPANT;PARTSTAT=ACCEPTED;RSVP=TRUE;CN="Aversa P
 R & Events":http://phillytodo.com/profile/KoryAversa277
END:VEVENT
END:VCALENDAR
