BEGIN:VCALENDAR
PRODID:NingEventWidget-v1
VERSION:2.0
METHOD:PUBLISH
BEGIN:VEVENT
UID:4320450:Event:38976
DTSTAMP:20260425T130959Z
SUMMARY:Lantern Parade and Philly POPS Brass Concert at Christmas Vill
 age
DESCRIPTION:Christmas Village in Philadelphia: Presented by NRG Home i
 nvites you to a traditional German-style Lantern Parade on Thursday, D
 ecember 11, 2014.  At 5:00pm, bring your homemade lantern and meet at
  the iconic LOVE Statue. The Snow Queen, along with Gerda and Kai from
  Enchantment Theatre Company’s The Snow Queen, will lead the parade 
 of lights around LOVE Park and Center City. The parade will end at the
  Christmas Village stage with a sing-a-long led by children from East 
 Passyunk’s Alphabet Academy Daycare and a free concert by the The Ph
 illy POPS Festival Brass.  Join the parade with your family, or simpl
 y come to watch! All lanterns should contain battery-operated candles 
 or lights, no flames. For more info about Christmas Village, please vi
 sit www.philachristmas.com, contact info@philachristmas.com or tweet @
 philachristmas. For more about The Snow Queen, visit http://enchantmen
 ttheatre.org\n\n\nFor more information visit http://phillytodo.com/eve
 nts/lantern-parade-and-philly-pops-brass-concert-at-christmas-village
DTSTART:20141211T220000Z
DTEND:20141211T230000Z
CATEGORIES:lantern, parade
LOCATION:LOVE Park
WEBSITE:http://www.philachristmas.com
URL:http://www.philachristmas.com
CONTACT:215-840-9216
ORGANIZER;CN="Aversa PR & Events":http://phillytodo.com/profile/KoryAv
 ersa277
ATTACH;FMTTYPE="image/jpeg":http://storage.ning.com/topology/rest/1.0/
 file/get/3054981607?profile=original
ATTENDEE;ROLE=REQ-PARTICIPANT;PARTSTAT=ACCEPTED;RSVP=TRUE;CN="Aversa P
 R & Events":http://phillytodo.com/profile/KoryAversa277
END:VEVENT
END:VCALENDAR
