BEGIN:VCALENDAR
PRODID:NingEventWidget-v1
VERSION:2.0
METHOD:PUBLISH
BEGIN:VEVENT
UID:4320450:Event:41409
DTSTAMP:20260425T124856Z
SUMMARY:Language as Material
DESCRIPTION:Explore a hybrid space by integrating writing and visual a
 rt. Discover how to unearth the blueprint of physical forms in your wr
 iting and utilize the power of language as a material. Learn word expe
 riments, language generation exercises, and creative writing prompts t
 o add texture and depth to your visual projects while uniting form and
  content. This workshop is a great resource for visual artists wanting
  to include text as a medium in their work or for writers curious to c
 reate physical forms that perform their writing. Create new work or ge
 t fresh insight on existing work. Everyone from seasoned professionals
  wanting to add a new dimension to their practice to beginners just bu
 ilding their toolboxes welcome.\nhttps://www.facebook.com/events/15969
 59003920231/ \n\nFor more information visit http://phillytodo.com/eve
 nts/language-as-material
DTSTART:20150802T190000Z
DTEND:20150802T220000Z
CATEGORIES:workshop
LOCATION:The Soapbox: Philadelphia's Independent Publishing Center
WEBSITE:http://www.phillysoapbox.org
URL:http://www.phillysoapbox.org
CONTACT:
ORGANIZER:The Soapbox: Philadelphia's Independent Publishing Center
ATTACH;FMTTYPE="image/jpeg":
ATTENDEE;ROLE=REQ-PARTICIPANT;PARTSTAT=ACCEPTED;RSVP=TRUE;CN="Philly S
 oap Box":http://phillytodo.com/profile/PhillySoapBox
END:VEVENT
END:VCALENDAR
