BEGIN:VCALENDAR
PRODID:NingEventWidget-v1
VERSION:2.0
METHOD:PUBLISH
BEGIN:VEVENT
UID:4320450:Event:36882
DTSTAMP:20260425T175131Z
SUMMARY:LandLab Kick-off Party
DESCRIPTION:Spend First Friday with LandLab and meet our resident ar
 tists Jake Beckman, Leslie Birch, Maggie Mills, B.H. Mills, Marguerit
 a Hagan, and We The Weeds, a collaboration of artist Kaitlin Pomeran
 tz and botanist Zya Levy. At this residency kick-off party, you’ll 
 have a chance to preview the artists’ projects and learn how you ca
 n engage with their work over the course of the residency.\nWe’ll h
 ave food, wine, music, a showcase of the artists’ work, and a previe
 w of the works in progress.\nMore information about the LandLab reside
 nts here.\n\nFor more information visit http://phillytodo.com/events/
 landlab-kick-off-party
DTSTART:20140606T220000Z
DTEND:20140607T000000Z
CATEGORIES:arts, gathering
LOCATION:The Schuylkill Center for Environmental Education
WEBSITE:http://www.schuylkillcenter.org/
URL:http://www.schuylkillcenter.org/
CONTACT:215-482-7300
ORGANIZER;CN="The Schuylkill Center":http://phillytodo.com/profile/Ann
 aLehrMueser
ATTACH;FMTTYPE="image/jpeg":http://storage.ning.com/topology/rest/1.0/
 file/get/3054975517?profile=original
ATTENDEE;ROLE=REQ-PARTICIPANT;PARTSTAT=ACCEPTED;RSVP=TRUE;CN="The Schu
 ylkill Center":http://phillytodo.com/profile/AnnaLehrMueser
END:VEVENT
END:VCALENDAR
