BEGIN:VCALENDAR
PRODID:NingEventWidget-v1
VERSION:2.0
METHOD:PUBLISH
BEGIN:VEVENT
UID:4320450:Event:49346
DTSTAMP:20260425T124908Z
SUMMARY:Land Steward Field Training
DESCRIPTION:Our Land Steward Field Training is an intensive hands-on w
 orkshop; combining theory and practice to give participants a strong g
 rounding in land stewardship work. Participants will gain an understan
 ding of the challenges and considerations in sustainable land manageme
 nt, while developing knowledge of the urban forest ecosystem.  The pr
 ogram will target one section of forested trail in Penn’s Native Acr
 es, a tract of 10 acres dedicated for native plant restoration, as the
  site for comprehensive improvement.\n\nFor more information visit htt
 p://phillytodo.com/events/land-steward-field-training
DTSTART:20170401T130000Z
DTEND:20170401T200000Z
CATEGORIES:workshop
LOCATION:Schuylkill Center
WEBSITE:http://www.schuylkillcenter.org/blog/event/land-steward-field-
 training-4/
URL:http://www.schuylkillcenter.org/blog/event/land-steward-field-trai
 ning-4/
CONTACT:215-482-7300
ORGANIZER;CN="The Schuylkill Center":http://phillytodo.com/profile/Ann
 aLehrMueser
ATTACH;FMTTYPE="image/jpeg":http://storage.ning.com/topology/rest/1.0/
 file/get/3055001422?profile=original
ATTENDEE;ROLE=REQ-PARTICIPANT;PARTSTAT=ACCEPTED;RSVP=TRUE;CN="The Schu
 ylkill Center":http://phillytodo.com/profile/AnnaLehrMueser
END:VEVENT
END:VCALENDAR
