BEGIN:VCALENDAR
PRODID:NingEventWidget-v1
VERSION:2.0
METHOD:PUBLISH
BEGIN:VEVENT
UID:4320450:Event:39721
DTSTAMP:20260425T163356Z
SUMMARY:Lake Naomi Club Winter Festival
DESCRIPTION:Bring your family and grab your ice skates for a weekend o
 f winter fun! The Lake Naomi Club is hosting its annual Winter Festiva
 l with plenty of fun for the whole family. From a cardboard bobsled ra
 ce, a snowman contest, skating, story time, arts & crafts, gingerbread
  house making, sledding, and games for the kids to a Zumba Cardio Part
 y and Après Ski happy hour at the Club house for the adults, the LNC 
 Winter Festival will be an event you and your family don’t want to m
 iss!\nAbout Lake Naomi Club:\nThe Northeast’s only Five-Star Platinu
 m Club Community, Lake Naomi Club is a luxury retreat committed to pro
 viding exceptional recreation for the entire family.  This Premier Co
 untry Club Community is ideal for all seasons, offering pristine lakes
 , rustic wooded lots, country homes, meticulously groomed facilities a
 nd first class cuisine served at the spectacular waterfront clubhouse.
  Lake Naomi Club is comprised of two communities, Lake Naomi and Timbe
 r Trails, both of which consist of year round and vacation homes to re
 nt and own. The Lake Naomi and Timber Trails communities offer members
 hip and access to the Lake Naomi Club facilities. \n\nFor more inform
 ation visit http://phillytodo.com/events/lake-naomi-club-winter-festiv
 al
DTSTART:20150124T000000Z
DTEND:20150125T193000Z
CATEGORIES:festival
LOCATION:Lake Naomi Club
WEBSITE:http://www.lakenaomiclub.com
URL:http://www.lakenaomiclub.com
CONTACT:
ORGANIZER:Lake Naomi Club
ATTACH;FMTTYPE="image/jpeg":http://storage.ning.com/topology/rest/1.0/
 file/get/3054986703?profile=original
ATTENDEE;ROLE=REQ-PARTICIPANT;PARTSTAT=ACCEPTED;RSVP=TRUE;CN=CashmanAs
 soc:http://phillytodo.com/profile/CashmanAssoc
END:VEVENT
END:VCALENDAR
