BEGIN:VCALENDAR
PRODID:NingEventWidget-v1
VERSION:2.0
METHOD:PUBLISH
BEGIN:VEVENT
UID:4320450:Event:1047
DTSTAMP:20260425T144244Z
SUMMARY:Ladies Rock Philly 2010
DESCRIPTION:Wish you could have gone to rock camp but it didn’t exis
 t when you were young? Why not go NOW?\n\nApplications are now online 
 for our inaugural year of Ladies Rock Philly, taking place on May 29-3
 1 (Memorial Day weekend) this year! This is your chance to learn a new
  instrument, form a band and write original songs, all in one intensel
 y fun weekend. Learn more and apply at our Ladies Rock Philly page onl
 ine.\n\nConcerned that not being a lady could be a problem for you? Sa
 dly, it is. But don't let that rock lust die - a weekend at Ladies Roc
 k Philly makes an unforgettable gift that the special lady in your lif
 e will be able to cherish forever.\n\nSo don't delay, and please feel 
 free to contact us at lrc[at]girlsrockphilly.org with any questions yo
 u might have about Ladies Rock Philly and how you can participate as a
  volunteer if you can't afford to attend LRP this year. Thanks and hop
 e to see you there!\n\n\n\n\nFor more information visit http://phillyt
 odo.com/events/ladies-rock-philly-2010
DTSTART:20100529T040000Z
DTEND:20100601T035900Z
CATEGORIES:grp, "girls rock philly", music, education, "ladies rock ph
 illy", "memorial day"
LOCATION:Philadelphia, PA
WEBSITE:http://www.girlsrockphilly.org/ladies-rock-camp/
URL:http://www.girlsrockphilly.org/ladies-rock-camp/
CONTACT:(215) 789-4879
ORGANIZER;CN="Girls Rock Philly":http://phillytodo.com/profile/GirlsRo
 ckPhilly
ATTACH;FMTTYPE="image/jpeg":http://storage.ning.com/topology/rest/1.0/
 file/get/3054946356?profile=original
ATTENDEE;ROLE=REQ-PARTICIPANT;PARTSTAT=ACCEPTED;RSVP=TRUE;CN="Dana B."
 :http://phillytodo.com/profile/DanaB
ATTENDEE;ROLE=REQ-PARTICIPANT;PARTSTAT=ACCEPTED;RSVP=TRUE;CN="Girls Ro
 ck Philly":http://phillytodo.com/profile/GirlsRockPhilly
END:VEVENT
END:VCALENDAR
