BEGIN:VCALENDAR
PRODID:NingEventWidget-v1
VERSION:2.0
METHOD:PUBLISH
BEGIN:VEVENT
UID:4320450:Event:47242
DTSTAMP:20260425T142649Z
SUMMARY:Labor Day Crab Fest and BBQ
DESCRIPTION:Celebrate the end of summer at Taproom on 19th (2400 S 19t
 h St) with a Labor Day Crab Fest and BBQ on Monday, September 5, 2015 
 from 12:00pm to 7:00pm. Enjoy Maryland Blue Claws plus barbecue favori
 tes like brisket, pulled pork sandwiches, and bbq ribs from Mike’s B
 BQ. Taproom will be pouring some great Maryland beers from Stillwater,
  DuClaw and Heavy Seas plus local breweries to whet your whistle. Brin
 g your children and your pup for this afternoon of family fun! Watch f
 or a waterslide and other surprises. Free entry, pay as you go for foo
 d and drink. For additional information call 267-687-7817.\n\nFor more
  information visit http://phillytodo.com/events/labor-day-crab-fest-an
 d-bbq
DTSTART:20160905T160000Z
DTEND:20160905T230000Z
CATEGORIES:bbq
LOCATION:Taproom on 19th
WEBSITE:https://www.facebook.com/events/279539859079123/
URL:https://www.facebook.com/events/279539859079123/
CONTACT:
ORGANIZER;CN="Aversa PR & Events":http://phillytodo.com/profile/KoryAv
 ersa277
ATTACH;FMTTYPE="image/jpeg":http://storage.ning.com/topology/rest/1.0/
 file/get/3054998751?profile=original
ATTENDEE;ROLE=REQ-PARTICIPANT;PARTSTAT=ACCEPTED;RSVP=TRUE;CN="Aversa P
 R & Events":http://phillytodo.com/profile/KoryAversa277
END:VEVENT
END:VCALENDAR
