BEGIN:VCALENDAR
PRODID:NingEventWidget-v1
VERSION:2.0
METHOD:PUBLISH
BEGIN:VEVENT
UID:4320450:Event:36570
DTSTAMP:20260425T144333Z
SUMMARY:Labor Day Celebration at Franklin Square
DESCRIPTION:Celebrate the end of summer with fun featuring carnival ga
 mes ($.25 per play)  and the Lightning Bolt Express Train ($5 adults,
  $4 children).\nAward-winning Franklin Square is a family-friendly pla
 y place located in the heart of Historic Philadelphia, featuring Phill
 y Mini Golf, a renovated vintage marble fountain, playgrounds, the Par
 x Liberty Carousel, and the acclaimed SquareBurger, with offerings fro
 m STARR Restaurants.\n\nFor more information visit http://phillytodo.c
 om/events/labor-day-celebration-at-franklin-square
DTSTART:20140830T160000Z
DTEND:20140901T190000Z
CATEGORIES:labor, day
LOCATION:Franklin Square
WEBSITE:http://www.historicphiladelphia.org
URL:http://www.historicphiladelphia.org
CONTACT:215-629-4026
ORGANIZER:
ATTACH;FMTTYPE="image/jpeg":
ATTENDEE;ROLE=REQ-PARTICIPANT;PARTSTAT=ACCEPTED;RSVP=TRUE;CN="Cari Fei
 ler Bender":http://phillytodo.com/profile/CariFeilerBender
END:VEVENT
END:VCALENDAR
