BEGIN:VCALENDAR
PRODID:NingEventWidget-v1
VERSION:2.0
METHOD:PUBLISH
BEGIN:VEVENT
UID:4320450:Event:58607
DTSTAMP:20260425T113237Z
SUMMARY:La Festa Street Festival on East Passyunk
DESCRIPTION:Filitalia International and Foundation, along with support
  from East Passyunk Avenue Business Improvement District, presents “
 La Festa Street Festival\" on Sunday, June 2, 2019, from 11:00am to 7:
 00pm. Head to East Passyunk (between Broad and Moore) for this all-day
 , all-ages street festival that features the always anticipated spaghe
 tti eating contest, live music, dancing, food, beer, wine, contests, p
 rizes, family fun, vendors, shopping, wine-making demos, vodka water i
 ce, and culinary displays. For family fun, look for children’s games
 , moon bounce, trampoline, orbitron, duck pond, trackless train rides,
  water gun fun, soccer games, face painting, yoga and more. Vendors an
 d restaurants this year include Chhaya, D'Abruzzo NYC, Esposito's Porc
 hetta,  Isabella pizza, Isgros Bakery, Mamma Maria Ristorante, Noir P
 hiladelphia, Nomad Pizza, Pistola's Del Sur, P'unk Burger, Stogie Joe'
 s Tavern, Locust Lane Craft Brewery, Original 13 Ciderworks, New Liber
 ty Distillery, Tildie’s Toy Box, Deja 42, Eastern Pass Tattoo Co., O
 ccasionette, Nicole Rae Styer Boutique, and many others. Since its inc
 eption in 2010, this fun-filled celebration welcomes thousands of atte
 ndees who love and look forward to celebrating Italian culture and her
 itage in South Philadelphia. Admission is free, with food and drink pa
 y-as-you-go. La Festa is rain or shine. All proceeds from La Festa ben
 efit programs of Filitalia International and The History of Italian Im
 migration Museum. For more information, call (215) 334-8882 or visit F
 ilitalia International on Facebook.   \n\n\nFor more information vis
 it http://phillytodo.com/events/la-festa-street-festival-on-east-passy
 unk
DTSTART:20190602T150000Z
DTEND:20190602T230000Z
CATEGORIES:food, festival
LOCATION:East Passyunk Avenue, Philadelphia, PA 19148
WEBSITE:
URL:
CONTACT:
ORGANIZER;CN="Aversa PR & Events":http://phillytodo.com/profile/KoryAv
 ersa277
ATTACH;FMTTYPE="image/jpeg":https://storage.ning.com/topology/rest/1.0
 /file/get/2539107491?profile=original
ATTENDEE;ROLE=REQ-PARTICIPANT;PARTSTAT=ACCEPTED;RSVP=TRUE;CN="Aversa P
 R & Events":http://phillytodo.com/profile/KoryAversa277
END:VEVENT
END:VCALENDAR
