BEGIN:VCALENDAR
PRODID:NingEventWidget-v1
VERSION:2.0
METHOD:PUBLISH
BEGIN:VEVENT
UID:4320450:Event:24428
DTSTAMP:20260425T125003Z
SUMMARY:KUNG FU RADAR Release Party!
DESCRIPTION:Featuring DJs\nDev79, Adub, DJ Ruxbin\nand a live perform
 ance byKIMBERLY DIAMOND\nClub, Hip Hop, Dubstep, Reggae and more!\nAdm
 ission is FREE \n\nFor more information visit http://phillytodo.com/e
 vents/kung-fu-radar-release-party
DTSTART:20120129T030000Z
DTEND:20120129T070000Z
CATEGORIES:dj, dance, party
LOCATION:Little Bar
WEBSITE:http://www.kimberlydiamondmusic.com/
URL:http://www.kimberlydiamondmusic.com/
CONTACT:
ORGANIZER:Kimberly Diamond Music
ATTACH;FMTTYPE="image/jpeg":http://storage.ning.com/topology/rest/1.0/
 file/get/3054958107?profile=original
ATTENDEE;ROLE=REQ-PARTICIPANT;PARTSTAT=ACCEPTED;RSVP=TRUE;CN=Seclusias
 is:http://phillytodo.com/profile/Seclusiasis
END:VEVENT
END:VCALENDAR
