BEGIN:VCALENDAR
PRODID:NingEventWidget-v1
VERSION:2.0
METHOD:PUBLISH
BEGIN:VEVENT
UID:4320450:Event:2891
DTSTAMP:20260425T161736Z
SUMMARY:KRISPY KREME DOUGHNUT’S FIRST STORE TO OPEN ON TUESDAY, NOVE
 MBER 9TH IN FOX CHASE!!!!
DESCRIPTION:KRISPY KREME DOUGHNUTS IS “HOT NOW” IN PHILADELPHIA! O
 n Tuesday, November 9th at 7855 Oxford Avenue in Fox Chase, Krispy Kre
 me Philadelphia is having their GRAND OPENING!! At 6:00 a.m. the famou
 s “HOT DOUGHNUTS NOW” sign will be turned on and the first 100 cus
 tomers to walk through the door will receive a free T-shirt! The new l
 ocation will be featuring the signature hot Original Glazed doughnuts 
 as well as great tasting coffee and espresso drinks, bagels, muffins, 
 cinnamon rolls and organic oatmeal! The Krispy Kreme Fox Chase locatio
 n will also be equipped with a 24 HOUR DRIVE-THRU—so on November 9th
  stop by for a warm delicious Krispy Kreme Doughnut!!\n\nFor more info
 rmation visit http://phillytodo.com/events/krispy-kreme-doughnuts-firs
 t
DTSTART:20101109T110000Z
DTEND:20101109T150000Z
CATEGORIES:grand, opening
LOCATION:Krispy Kreme Philly
WEBSITE:http://www.krispykremephilly.com/
URL:http://www.krispykremephilly.com/
CONTACT:
ORGANIZER;CN="Valerie Bunsick":http://phillytodo.com/profile/ValerieBu
 nsick
ATTACH;FMTTYPE="image/jpeg":http://storage.ning.com/topology/rest/1.0/
 file/get/3054950875?profile=original
ATTENDEE;ROLE=REQ-PARTICIPANT;PARTSTAT=ACCEPTED;RSVP=TRUE;CN="Valerie 
 Bunsick":http://phillytodo.com/profile/ValerieBunsick
END:VEVENT
END:VCALENDAR
