BEGIN:VCALENDAR
PRODID:NingEventWidget-v1
VERSION:2.0
METHOD:PUBLISH
BEGIN:VEVENT
UID:4320450:Event:56031
DTSTAMP:20260425T112443Z
SUMMARY:KOPTC Boot Camp Thursdays
DESCRIPTION:Fall into your cool weather workout routine with LA Fitnes
 s KOP. Enjoy a FREE outdoor boot camp class every Thursday in Septembe
 r led by La Fitness KOP personal trainers. This 45-minute class will b
 egin promptly at 5:30pm with post-class happy hour specials provided b
 y KOP Town Center tenants such as B.Good, Habit Burger, District Taco,
  Founding Farmers, Davio’s KOP, Road Runner and more! Complimentary 
 water will be provided by WSFS Bank KOP.\n \nDon’t forget your snea
 kers and workout buddy! \nThe class will take place on the Town Cente
 r green space in front of Davio’s. Check our Facebook for class canc
 elation information due to inclement weather.\n\nFor more information 
 visit http://phillytodo.com/events/koptc-boot-camp-thursdays
DTSTART:20180906T213000Z
DTEND:20180927T223000Z
CATEGORIES:class
LOCATION:La Fitness KOP
WEBSITE:http://kingofprussia-towncenter.com/events/
URL:http://kingofprussia-towncenter.com/events/
CONTACT:2156271060
ORGANIZER;CN=CashmanAssoc:http://phillytodo.com/profile/CashmanAssoc
ATTACH;FMTTYPE="image/jpeg":
ATTENDEE;ROLE=REQ-PARTICIPANT;PARTSTAT=ACCEPTED;RSVP=TRUE;CN=CashmanAs
 soc:http://phillytodo.com/profile/CashmanAssoc
END:VEVENT
END:VCALENDAR
