BEGIN:VCALENDAR
PRODID:NingEventWidget-v1
VERSION:2.0
METHOD:PUBLISH
BEGIN:VEVENT
UID:4320450:Event:36106
DTSTAMP:20260425T124917Z
SUMMARY:Kombucha Fermentation Workshop with Phickle
DESCRIPTION:Registration Required. Amanda Feifer, fermenting enthusias
 t behind phickle.com comes to the Greensgrow Community Kitchen to talk
  cultures and tea in this workshop on the ubiquitous and sometimes mag
 ical brew, Kombucha. You’ll learn the process for making this cultur
 e-rich brew two ways (continuous and single batch) and we'll discuss c
 aring for the culture that is needed to make it, and techniques for ad
 ding flavor and fizz!  We'll play around with secondary fermentation 
 and discuss bottling tips, bacterial benefits, and taste finished ferm
 ents.\n\nAll participants will leave with a SCOBY (the culture to make
  kombucha at home) and some starter tea as well as an info packet with
  recipes, tips, techniques, etc.\n\nFor more information visit http://
 phillytodo.com/events/kombucha-fermentation-workshop-with-phickle
DTSTART:20140503T160000Z
DTEND:20140503T180000Z
CATEGORIES:fermentation, workshop
LOCATION:Greensgrow Community Kitchen at St. Michael's Lutheran Church
WEBSITE:http://www.greensgrow.org/event/kombucha-fermentation-workshop
 -with-phickle/
URL:http://www.greensgrow.org/event/kombucha-fermentation-workshop-wit
 h-phickle/
CONTACT:
ORGANIZER;CN="Greensgrow Farms":http://phillytodo.com/profile/Greensgr
 owFarms
ATTACH;FMTTYPE="image/jpeg":
ATTENDEE;ROLE=REQ-PARTICIPANT;PARTSTAT=ACCEPTED;RSVP=TRUE;CN="Greensgr
 ow Farms":http://phillytodo.com/profile/GreensgrowFarms
END:VEVENT
END:VCALENDAR
