BEGIN:VCALENDAR
PRODID:NingEventWidget-v1
VERSION:2.0
METHOD:PUBLISH
BEGIN:VEVENT
UID:4320450:Event:51833
DTSTAMP:20260425T144301Z
SUMMARY:Kokedama Workshop
DESCRIPTION:Kokedama moss balls or “string gardens” are a unique w
 ay to garden vertically. Learn how make your own at our workshop this 
 fall. Kokedama, sometimes referred to as the “poor man’s bonsai,
  is a Japanese method of planting in versatile self-contained moss pl
 anters that you can hang anywhere your plants flourish. Bring a breath
 e of fresh air to your indoor space just in time for winter!\nOur expe
 rt staff instructor will walk you through the process of correctly mix
 ing soil, transplanting, and wrapping your moss cover as well as at ho
 me care and maintenance. Everyone will take away the Kokedama you make
  in class with a choice of mini houseplants like Ferns, Peace Lilies, 
 or Caladiums. And we’ll give you handy instructions for your next mo
 ssy creation. Extra scissors and gloves are always welcome! Get ready 
 to roll up your sleeves and have some fun.\nMaureen and David are our 
 own horticultural experts behind keeping our Garden Center lush, happy
  and healthy and are here to offer their expertise to you, whether you
 ’ve got your first houseplant or have been gardening for years. Phot
 o Courtesy of Costa Farms\n$40, registration required\nFor more info a
 nd to register: http://www.greensgrow.org/event/kokedama-workshop/\n\n
 For more information visit http://phillytodo.com/events/kokedama-works
 hop
DTSTART:20171014T160000Z
DTEND:20171014T180000Z
CATEGORIES:"workshop/class"
LOCATION:Greensgrow Farms
WEBSITE:http://www.greensgrow.org/event/kokedama-workshop/
URL:http://www.greensgrow.org/event/kokedama-workshop/
CONTACT:215-427-2780
ORGANIZER;CN="Greensgrow Farms":http://phillytodo.com/profile/Greensgr
 owFarms
ATTACH;FMTTYPE="image/jpeg":http://storage.ning.com/topology/rest/1.0/
 file/get/3055006206?profile=original
ATTENDEE;ROLE=REQ-PARTICIPANT;PARTSTAT=ACCEPTED;RSVP=TRUE;CN="Greensgr
 ow Farms":http://phillytodo.com/profile/GreensgrowFarms
END:VEVENT
END:VCALENDAR
