BEGIN:VCALENDAR
PRODID:NingEventWidget-v1
VERSION:2.0
METHOD:PUBLISH
BEGIN:VEVENT
UID:4320450:Event:168529
DTSTAMP:20260425T115725Z
SUMMARY:King of Prussia Town Center Hosts Pop-Up Fitness Class
DESCRIPTION:CUTLOOSE will be popping up on the King of Prussia Town Ce
 nter green space on Sunday, September 26 at 9am to introduce an invigo
 rating class called FLOURISH.\nFLOURISH is a 45-minute body weight cla
 ss with movements designed to challenge our bodies, focus our minds, a
 nd center ourselves for the week ahead.\nParticipation is FREE and reg
 istration required.\n\nFor more information visit http://phillytodo.co
 m/events/king-of-prussia-town-center-hosts-pop-up-fitness-class
DTSTART:20210926T130000Z
DTEND:20210926T140000Z
CATEGORIES:fitness, class
LOCATION:King of Prussia Town Center
WEBSITE:http://kingofprussia-towncenter.com/
URL:http://kingofprussia-towncenter.com/
CONTACT:
ORGANIZER;CN=CashmanAssoc:http://phillytodo.com/profile/CashmanAssoc
ATTACH;FMTTYPE="image/jpeg":
ATTENDEE;ROLE=REQ-PARTICIPANT;PARTSTAT=ACCEPTED;RSVP=TRUE;CN=CashmanAs
 soc:http://phillytodo.com/profile/CashmanAssoc
END:VEVENT
END:VCALENDAR
