BEGIN:VCALENDAR
PRODID:NingEventWidget-v1
VERSION:2.0
METHOD:PUBLISH
BEGIN:VEVENT
UID:4320450:Event:52710
DTSTAMP:20260425T144200Z
SUMMARY:King of Prussia Town Center Free Fitness Pop-up
DESCRIPTION:Join the King of Prussia Town Center for FREE fitness pop-
 up events Tuesdays this fall with LA Fitness - KING OF PRUSSIA. On Tu
 esday, Oct 3rd,  meet at the Town Center's Town Square and don't forg
 et your sneakers. Check-in starts at 4:30pm. For more information visi
 t www.kingofprussia-towncenter.com. Stay tuned for updates and sched
 ule changes due to weather.\n\nFor more information visit http://phill
 ytodo.com/events/king-of-prussia-town-center-free-fitness-pop-up
DTSTART:20171003T203000Z
DTEND:20171003T213000Z
CATEGORIES:pop-up
LOCATION:King of Prussia
WEBSITE:http://kingofprussia-towncenter.com/contact/
URL:http://kingofprussia-towncenter.com/contact/
CONTACT:
ORGANIZER:Cashman and Associates
ATTACH;FMTTYPE="image/jpeg":http://storage.ning.com/topology/rest/1.0/
 file/get/3055009942?profile=original
ATTENDEE;ROLE=REQ-PARTICIPANT;PARTSTAT=ACCEPTED;RSVP=TRUE;CN=CashmanAs
 soc:http://phillytodo.com/profile/CashmanAssoc
END:VEVENT
END:VCALENDAR
