BEGIN:VCALENDAR
PRODID:NingEventWidget-v1
VERSION:2.0
METHOD:PUBLISH
BEGIN:VEVENT
UID:4320450:Event:1324
DTSTAMP:20260425T172110Z
SUMMARY:Kinetic Body, Inc. Kettlebell and Bodyweight Training Studio
DESCRIPTION:Open house Sat. 4/17 10am to 2pm and 4/18 2pm to 5pm. Kett
 lebell lifting demonstrations, complimentary group sessions, light ref
 reshments, and raffle for 1 month of sessions. Family friendly- childr
 en are welcome to come.\n\nFor more information visit http://phillytod
 o.com/events/kinetic-body-inc-kettlebell
DTSTART:20100417T140000Z
DTEND:20100418T210000Z
CATEGORIES:open, house
LOCATION:Jenkintown 19046 corner of 611 and Greenwood Ave.
WEBSITE:http://kineticbody.com
URL:http://kineticbody.com
CONTACT:267.992.1896
ORGANIZER;CN="Rebecca L. Cate":http://phillytodo.com/profile/RebeccaLC
 ate
ATTACH;FMTTYPE="image/jpeg":http://storage.ning.com/topology/rest/1.0/
 file/get/3054946752?profile=original
ATTENDEE;ROLE=REQ-PARTICIPANT;PARTSTAT=ACCEPTED;RSVP=TRUE;CN="Rebecca 
 L. Cate":http://phillytodo.com/profile/RebeccaLCate
END:VEVENT
END:VCALENDAR
