BEGIN:VCALENDAR
PRODID:NingEventWidget-v1
VERSION:2.0
METHOD:PUBLISH
BEGIN:VEVENT
UID:4320450:Event:47161
DTSTAMP:20260425T142535Z
SUMMARY:Kindergarten Readiness 101
DESCRIPTION:We all know that transitioning from preschool to kindergar
 ten can be a challenge, for parents and children alike.  So join us f
 or a conversation with our experienced preschool teachers and staff fr
 om local elementary school to talk about this important milestone.  W
 e’ll learn strategies to support children during this change and tal
 k about ways to make this transition smooth and successful.\nFor infor
 mation about our Nature Preschool program and how it prepares children
  for the social, emotional, physical, and intellectual challenges of k
 indergarten, visit our website.\nFor adults.\n\nFor more information v
 isit http://phillytodo.com/events/kindergarten-readiness-101
DTSTART:20161110T233000Z
DTEND:20161111T003000Z
CATEGORIES:"open house"
LOCATION:The Schuylkill Center
WEBSITE:http://www.schuylkillcenter.org/blog/event/kindergarten-readin
 ess-101/
URL:http://www.schuylkillcenter.org/blog/event/kindergarten-readiness-
 101/
CONTACT:215-482-7300
ORGANIZER;CN="The Schuylkill Center":http://phillytodo.com/profile/Ann
 aLehrMueser
ATTACH;FMTTYPE="image/jpeg":http://storage.ning.com/topology/rest/1.0/
 file/get/3054998300?profile=original
ATTENDEE;ROLE=REQ-PARTICIPANT;PARTSTAT=ACCEPTED;RSVP=TRUE;CN="The Schu
 ylkill Center":http://phillytodo.com/profile/AnnaLehrMueser
END:VEVENT
END:VCALENDAR
