BEGIN:VCALENDAR
PRODID:NingEventWidget-v1
VERSION:2.0
METHOD:PUBLISH
BEGIN:VEVENT
UID:4320450:Event:13007
DTSTAMP:20260425T141233Z
SUMMARY:Kimpton's Kool-Aid for Kids
DESCRIPTION:Kimpton's Hotel Palomar Philadelphia and Square 1682 Resta
 urant are teaming up for \"Team Kimpton Kool-Aid for the Kids\" in eff
 orts to raise funds for pediatric cancer in conjunction with Alex's Le
 monade Stand Foundation, a registered charity that funds over 15o rese
 arch projects nationally in hopes of finding a cure. Hotel Palomar wil
 l be serving ice cold lemon \"Kimpton Kool-Aid\" and Square 1682 Execu
 tive Chef Guillermo's delightful lemon bars!\n\nFor more information v
 isit http://phillytodo.com/events/kimptons-koolaid-for-kids
DTSTART:20110609T153000Z
DTEND:20110611T193000Z
CATEGORIES:fundraiser
LOCATION:Square 1682
WEBSITE:http://www.alexslemonade.org/mypage/72456
URL:http://www.alexslemonade.org/mypage/72456
CONTACT:610.649.3038
ORGANIZER:Alex's Lemonade Stand, Hotel Palomar and Square 1682 Restaur
 ant
ATTACH;FMTTYPE="image/jpeg":http://storage.ning.com/topology/rest/1.0/
 file/get/3054955015?profile=original
ATTENDEE;ROLE=REQ-PARTICIPANT;PARTSTAT=ACCEPTED;RSVP=TRUE;CN="Lindsay 
 Martinez":http://phillytodo.com/profile/LindsayMartinez
END:VEVENT
END:VCALENDAR
