BEGIN:VCALENDAR
PRODID:NingEventWidget-v1
VERSION:2.0
METHOD:PUBLISH
BEGIN:VEVENT
UID:4320450:Event:47136
DTSTAMP:20260425T101154Z
SUMMARY:Kiehl's LifeRide for amfAR Finale Celebration
DESCRIPTION:Â Kiehlâ€™s LifeRide for amfAR is an 11-day multi state, c
 haritable motorcycle ride throughout the Northeast that raises funds a
 nd awareness for amfAR, The Foundation for AIDS Research.\nÂ \nThe ope
 n-to-the public finale celebration in Philadelphia will include\n\nMus
 ic byÂ DJ Amy Pham\nMeet & greet with celebrity riders\nComplimentary 
 facials or hand massages\nAttendees will be invited to sign aÂ Kiehlâ€
 ™s LifeRide panel that will be added to the globally recognizedÂ AIDS 
 Memorial Quilt.\nFree on-site rapid HIV testing by Q Spot Philly, Beba
 shi & the University of Pennsylvania\n15% discount on allÂ Kiehlâ€™s p
 urchases, excluding charitable products and value sets.Â Â (Kiehlâ€™s 
 will donate the 15% difference to amfAR, up to $125,000).\nThe cure is
  in your hands: 100 percent ofÂ Kiehlâ€™s net profits from the sale of
  theÂ Limited Edition Ultimate Strength Hand Salve,up to $25,000, will
  benefit amfAR, The Foundation for AIDS Research.\n\nCelebrity riders 
 include:\n\nChris Salgardo, President,Â Kiehlâ€™s USA\nKevin Robert Fr
 ost, CEO, amfAR, The Foundation for AIDS Research\nScott Patterson, Ac
 tor (Gilmore Girls, The Event)\nGilles Marini, Actor (Teen Wolf; Sex a
 nd the City;Â runner-up ofDancing with the Stars)\nGrant Reynolds, TV 
 Host (Science Channelâ€™sÂ What Could Possibly Go wrong?)\nBen Cohen, 
 Activist and Former Pro Rugby Player\nMarcel Floruss,Â Fashion Blogger
 ,Â One Dapper Street\n\n\nFor more information visit http://phillytodo
 .com/events/kiehl-s-liferide-for-amfar-finale-celebration
DTSTART:20160812T180000Z
DTEND:20160812T190000Z
CATEGORIES:charity
LOCATION:Kiehl's Since 1851
WEBSITE:http://www.kiehls.com/liferide2016
URL:http://www.kiehls.com/liferide2016
CONTACT:
ORGANIZER:Kiehl's Since 1851
ATTACH;FMTTYPE="image/jpeg":http://storage.ning.com/topology/rest/1.0/
 file/get/3054998070?profile=original
ATTENDEE;ROLE=REQ-PARTICIPANT;PARTSTAT=ACCEPTED;RSVP=TRUE;CN=CashmanAs
 soc:http://phillytodo.com/profile/CashmanAssoc
END:VEVENT
END:VCALENDAR
