BEGIN:VCALENDAR
PRODID:NingEventWidget-v1
VERSION:2.0
METHOD:PUBLISH
BEGIN:VEVENT
UID:4320450:Event:2934
DTSTAMP:20260425T173554Z
SUMMARY:Kid's New Year's Eve Countdown
DESCRIPTION:A kid's version of the famous New Year's Eve celebration.\
 n\nFor more information visit http://phillytodo.com/events/kids-new-ye
 ars-eve-countdown
DTSTART:20101231T230000Z
DTEND:20110101T010000Z
CATEGORIES:holiday
LOCATION:Franklin Square
WEBSITE:http://www.historicphiladelphia.org
URL:http://www.historicphiladelphia.org
CONTACT:215-629-4026
ORGANIZER;CN="Cari Feiler Bender":http://phillytodo.com/profile/CariFe
 ilerBender
ATTACH;FMTTYPE="image/jpeg":
ATTENDEE;ROLE=REQ-PARTICIPANT;PARTSTAT=ACCEPTED;RSVP=TRUE;CN="Cari Fei
 ler Bender":http://phillytodo.com/profile/CariFeilerBender
END:VEVENT
END:VCALENDAR
