BEGIN:VCALENDAR
PRODID:NingEventWidget-v1
VERSION:2.0
METHOD:PUBLISH
BEGIN:VEVENT
UID:4320450:Event:28639
DTSTAMP:20260425T150349Z
SUMMARY:Kids' New Year's Eve Countdown at Franklin Square
DESCRIPTION:Celebrate the end of 2012 and ring in 2013 with music and
  crafts in Franklin Square. Stick around for the countdown to the Squ
 are Drop and fireworks at Penn’s Landing at 6 pm. (sponsored by Adv
 enture Aquarium)\n\nFun family entertainment and a beautiful park are 
 just steps away from the Liberty Bell, in one of William Penn’s orig
 inal five squares. Award-winning Franklin Square is an outdoor amuseme
 nt oasis located in the heart of Historic Philadelphia, featuring Phil
 ly Mini Golf, a renovated vintage marble fountain, Philadelphia Park L
 iberty Carousel, and the acclaimed SquareBurger, with offerings from S
 TARR Restaurants. After a day of experiencing the treasures of Philade
 lphia’s history, putt through some of the city’s most famous icons
 , take a ride on hometown racehorse heroes Afleet Alex or Smarty Jones
  aboard the carousel, enjoy a rest next to the refreshing fountain, an
 d dine on the finest burgers and shakes in town. Awarded Best of Phill
 y® two Philadelphia Magazine and one of the Five Coolest Playgrounds 
 in the United States. \n\nFor more information visit http://phillytod
 o.com/events/kids-new-year-s-eve-countdown-at-franklin-square
DTSTART:20121231T200000Z
DTEND:20121231T230000Z
CATEGORIES:holiday, season
LOCATION:Franklin Square
WEBSITE:http://www.historicphiladelphia.org
URL:http://www.historicphiladelphia.org
CONTACT:215-629-4026
ORGANIZER:Historic Philadelphia, Inc.
ATTACH;FMTTYPE="image/jpeg":
ATTENDEE;ROLE=REQ-PARTICIPANT;PARTSTAT=ACCEPTED;RSVP=TRUE;CN="Cari Fei
 ler Bender":http://phillytodo.com/profile/CariFeilerBender
END:VEVENT
END:VCALENDAR
