BEGIN:VCALENDAR
PRODID:NingEventWidget-v1
VERSION:2.0
METHOD:PUBLISH
BEGIN:VEVENT
UID:4320450:Event:40742
DTSTAMP:20260425T150210Z
SUMMARY:KICKSUSA Spring Fling Party
DESCRIPTION: KICKSUSA will be hosting a Spring Fling Party with a liv
 e DJ, special deals throughout the day, customization of Love Your Kic
 ks tees, and free giveaways. All giveaways and tees are while supplies
  last. There will also be a 4’x5’ poster of a Love Your Kicks logo
  for kids and customers to color while shopping! \n\nFor more informa
 tion visit http://phillytodo.com/events/kicksusa-spring-fling-party
DTSTART:20150425T180000Z
DTEND:20150425T230000Z
CATEGORIES:free, event
LOCATION:Aramingo Village
WEBSITE:
URL:
CONTACT:(215) 625-7988
ORGANIZER;CN="Skai Blue Media":http://phillytodo.com/profile/SkaiBlueM
 edia
ATTACH;FMTTYPE="image/jpeg":
ATTENDEE;ROLE=REQ-PARTICIPANT;PARTSTAT=ACCEPTED;RSVP=TRUE;CN="Skai Blu
 e Media":http://phillytodo.com/profile/SkaiBlueMedia
END:VEVENT
END:VCALENDAR
